BEGIN:VCALENDAR
VERSION:2.0
PRODID:spatie/icalendar-generator
DESCRIPTION:Veranstaltungen von Schachclub Ramstein-Miesenbach
X-WR-CALDESC:Veranstaltungen von Schachclub Ramstein-Miesenbach
REFRESH-INTERVAL;VALUE=DURATION:PT1440M
X-PUBLISHED-TTL:PT1440M
BEGIN:VTIMEZONE
TZID:Europe/Berlin
BEGIN:STANDARD
DTSTART:20251026T030000Z
TZOFFSETFROM:+0200
TZOFFSETTO:+0100
END:STANDARD
BEGIN:DAYLIGHT
DTSTART:20260329T020000Z
TZOFFSETFROM:+0100
TZOFFSETTO:+0200
END:DAYLIGHT
BEGIN:STANDARD
DTSTART:20261025T030000Z
TZOFFSETFROM:+0200
TZOFFSETTO:+0100
END:STANDARD
END:VTIMEZONE
BEGIN:VTIMEZONE
TZID:UTC
BEGIN:STANDARD
DTSTART:20250728T104523Z
TZOFFSETFROM:+0000
TZOFFSETTO:+0000
END:STANDARD
END:VTIMEZONE
BEGIN:VEVENT
UID:949-951
DTSTAMP:20260424T104523Z
SUMMARY:5. Thallichtenberger Sommeropen
LOCATION:
ORGANIZER;CN=Werner Weller:MAILTO:we.weller@t-online.de
DTSTART;TZID=Europe/Berlin;VALUE=DATE:20260626
DTEND;TZID=Europe/Berlin;VALUE=DATE:20260629
X-ALT-DESC;FMTTYPE=TEXT/HTML:<p>Turniermodus: - 5 Runden\, Schweizer System
 \, Bedenkzeit 90 Min./ 40 Züge + 30 Min. + 30 Sek. ab dem 1. Zug<br />\n-
  Karenzzeit 30 Minuten\, Elo- und DWZ-Auswertung\, keine Streichwertung</p>\n
CATEGORIES:Turniere
URL;VALUE=URI:https://sc-ramsteinmiesenbach.de/mc-events/5-thallichtenberge
 r-sommeropen/
METHOD:PUBLISH
END:VEVENT
END:VCALENDAR