BEGIN:VCALENDAR
VERSION:2.0
PRODID:spatie/icalendar-generator
DESCRIPTION:Veranstaltungen von Schachclub Ramstein-Miesenbach
X-WR-CALDESC:Veranstaltungen von Schachclub Ramstein-Miesenbach
REFRESH-INTERVAL;VALUE=DURATION:PT1440M
X-PUBLISHED-TTL:PT1440M
BEGIN:VTIMEZONE
TZID:Europe/Berlin
BEGIN:STANDARD
DTSTART:20251026T030000Z
TZOFFSETFROM:+0200
TZOFFSETTO:+0100
END:STANDARD
BEGIN:DAYLIGHT
DTSTART:20260329T020000Z
TZOFFSETFROM:+0100
TZOFFSETTO:+0200
END:DAYLIGHT
END:VTIMEZONE
BEGIN:VTIMEZONE
TZID:UTC
BEGIN:STANDARD
DTSTART:20250726T161557Z
TZOFFSETFROM:+0000
TZOFFSETTO:+0000
END:STANDARD
END:VTIMEZONE
BEGIN:VEVENT
UID:922-933
DTSTAMP:20260422T161557Z
SUMMARY:Vollversammlung Sportjugend Pfalz in Ramstein-Miesenbach
LOCATION:
ORGANIZER;CN=Werner Weller:MAILTO:we.weller@t-online.de
DTSTART;TZID=Europe/Berlin:20260306T173000
DTEND;TZID=Europe/Berlin:20260306T193000
X-ALT-DESC;FMTTYPE=TEXT/HTML:<p>Freitag\, 06. März 2026\, 17.30 Uhr\, im S
 portheim des FV Olympia Ramstein\, Am Hocht 1\, in 66877 Ramstein</p>\n
CATEGORIES:Verein
URL;VALUE=URI:https://sc-ramsteinmiesenbach.de/mc-events/vollversammlung-sp
 ortjugend-pfalz-in-ramstein-miesenbach/
METHOD:PUBLISH
END:VEVENT
END:VCALENDAR