BEGIN:VCALENDAR
VERSION:2.0
PRODID:spatie/icalendar-generator
DESCRIPTION:Veranstaltungen von Schachclub Ramstein-Miesenbach
X-WR-CALDESC:Veranstaltungen von Schachclub Ramstein-Miesenbach
REFRESH-INTERVAL;VALUE=DURATION:PT1440M
X-PUBLISHED-TTL:PT1440M
BEGIN:VTIMEZONE
TZID:Europe/Berlin
BEGIN:DAYLIGHT
DTSTART:20260329T020000Z
TZOFFSETFROM:+0100
TZOFFSETTO:+0200
END:DAYLIGHT
BEGIN:STANDARD
DTSTART:20261025T030000Z
TZOFFSETFROM:+0200
TZOFFSETTO:+0100
END:STANDARD
BEGIN:DAYLIGHT
DTSTART:20270328T020000Z
TZOFFSETFROM:+0100
TZOFFSETTO:+0200
END:DAYLIGHT
END:VTIMEZONE
BEGIN:VTIMEZONE
TZID:UTC
BEGIN:STANDARD
DTSTART:20250726T120908Z
TZOFFSETFROM:+0000
TZOFFSETTO:+0000
END:STANDARD
END:VTIMEZONE
BEGIN:VEVENT
UID:914-927
DTSTAMP:20260422T120908Z
SUMMARY:Offener Westpfalz-Grand-Prix 2026 in Mackenbach
LOCATION:
ORGANIZER;CN=Werner Weller:MAILTO:we.weller@t-online.de
DTSTART;TZID=Europe/Berlin:20261024T100000
DTEND;TZID=Europe/Berlin:20261024T160000
X-ALT-DESC;FMTTYPE=TEXT/HTML:<p>Spiellokal: SC Mackenbach\, Bürgerstube\, 
 Schulstr. 10\, 67686 Mackenbach</p>\n
CATEGORIES:Turniere
URL;VALUE=URI:https://sc-ramsteinmiesenbach.de/mc-events/offener-westpfalz-
 grand-prix-2026-in-mackenbach/
METHOD:PUBLISH
END:VEVENT
END:VCALENDAR