BEGIN:VCALENDAR
VERSION:2.0
PRODID:spatie/icalendar-generator
DESCRIPTION:Veranstaltungen von Schachclub Ramstein-Miesenbach
X-WR-CALDESC:Veranstaltungen von Schachclub Ramstein-Miesenbach
REFRESH-INTERVAL;VALUE=DURATION:PT1440M
X-PUBLISHED-TTL:PT1440M
BEGIN:VTIMEZONE
TZID:Europe/Berlin
BEGIN:STANDARD
DTSTART:20251026T030000Z
TZOFFSETFROM:+0200
TZOFFSETTO:+0100
END:STANDARD
BEGIN:DAYLIGHT
DTSTART:20260329T020000Z
TZOFFSETFROM:+0100
TZOFFSETTO:+0200
END:DAYLIGHT
END:VTIMEZONE
BEGIN:VTIMEZONE
TZID:UTC
BEGIN:STANDARD
DTSTART:20250728T122412Z
TZOFFSETFROM:+0000
TZOFFSETTO:+0000
END:STANDARD
END:VTIMEZONE
BEGIN:VEVENT
UID:909-924
DTSTAMP:20260424T122412Z
SUMMARY:Schulschach Landesentscheid in Koblenz
LOCATION:
ORGANIZER;CN=Werner Weller:MAILTO:we.weller@t-online.de
DTSTART;TZID=Europe/Berlin;VALUE=DATE:20260314
DTEND;TZID=Europe/Berlin;VALUE=DATE:20260315
X-ALT-DESC;FMTTYPE=TEXT/HTML:Max von Laue Gym. Koblenz Teilnehmer: Realschu
 le Plus Ramstein mit 2 Mannschaften Wendelinusschule mit Mädchen- und Jun
 genmannschaft Sickingengymnasium Landstuhl (überwiegend Spieler vom Schac
 hclub Ramstein-Miesenbah)
CATEGORIES:Turniere
URL;VALUE=URI:https://sc-ramsteinmiesenbach.de/mc-events/schulschach-landes
 entscheid-in-koblenz/
METHOD:PUBLISH
END:VEVENT
END:VCALENDAR