BEGIN:VCALENDAR
VERSION:2.0
PRODID:spatie/icalendar-generator
DESCRIPTION:Veranstaltungen von Schachclub Ramstein-Miesenbach
X-WR-CALDESC:Veranstaltungen von Schachclub Ramstein-Miesenbach
REFRESH-INTERVAL;VALUE=DURATION:PT1440M
X-PUBLISHED-TTL:PT1440M
BEGIN:VTIMEZONE
TZID:Europe/Berlin
BEGIN:DAYLIGHT
DTSTART:20260329T020000Z
TZOFFSETFROM:+0100
TZOFFSETTO:+0200
END:DAYLIGHT
BEGIN:STANDARD
DTSTART:20261025T030000Z
TZOFFSETFROM:+0200
TZOFFSETTO:+0100
END:STANDARD
BEGIN:DAYLIGHT
DTSTART:20270328T020000Z
TZOFFSETFROM:+0100
TZOFFSETTO:+0200
END:DAYLIGHT
END:VTIMEZONE
BEGIN:VTIMEZONE
TZID:UTC
BEGIN:STANDARD
DTSTART:20250726T163454Z
TZOFFSETFROM:+0000
TZOFFSETTO:+0000
END:STANDARD
END:VTIMEZONE
BEGIN:VEVENT
UID:893-910
DTSTAMP:20260422T163454Z
SUMMARY:Bezirkseinzelmeisterschaft Bezirk VI\; 3. Runde
LOCATION:
ORGANIZER;CN=Werner Weller:MAILTO:we.weller@t-online.de
DTSTART;TZID=Europe/Berlin:20261113T193000
DTEND;TZID=Europe/Berlin:20261113T233000
X-ALT-DESC;FMTTYPE=TEXT/HTML:<p>Spiellokal: Haus der Vereine\, Hauptstr. 28
 \, 66877 Ramstein-Miesenbach</p>\n
CATEGORIES:Turniere
URL;VALUE=URI:https://sc-ramsteinmiesenbach.de/mc-events/bezirkseinzelmeist
 erschaft-bezirk-vi-3-runde/
METHOD:PUBLISH
END:VEVENT
END:VCALENDAR