BEGIN:VCALENDAR
VERSION:2.0
PRODID:spatie/icalendar-generator
DESCRIPTION:Veranstaltungen von Schachclub Ramstein-Miesenbach
X-WR-CALDESC:Veranstaltungen von Schachclub Ramstein-Miesenbach
REFRESH-INTERVAL;VALUE=DURATION:PT1440M
X-PUBLISHED-TTL:PT1440M
BEGIN:VTIMEZONE
TZID:Europe/Berlin
BEGIN:STANDARD
DTSTART:20251026T030000Z
TZOFFSETFROM:+0200
TZOFFSETTO:+0100
END:STANDARD
BEGIN:DAYLIGHT
DTSTART:20260329T020000Z
TZOFFSETFROM:+0100
TZOFFSETTO:+0200
END:DAYLIGHT
END:VTIMEZONE
BEGIN:VTIMEZONE
TZID:UTC
BEGIN:STANDARD
DTSTART:20250726T083901Z
TZOFFSETFROM:+0000
TZOFFSETTO:+0000
END:STANDARD
END:VTIMEZONE
BEGIN:VEVENT
UID:866-891
DTSTAMP:20260422T083901Z
SUMMARY:Pfälzische Schulschachmeisterschaft
LOCATION:
ORGANIZER;CN=Jochen Meier:MAILTO:jmeier@gmx.de
DTSTART;TZID=Europe/Berlin;VALUE=DATE:20260203
DTEND;TZID=Europe/Berlin;VALUE=DATE:20260205
X-ALT-DESC;FMTTYPE=TEXT/HTML:<p>Am Reichswald-Gymnasium findet dieses Jahr 
 die ...</p>\n
CATEGORIES:Turniere
URL;VALUE=URI:https://sc-ramsteinmiesenbach.de/mc-events/pfaelzische-schuls
 chachmeisterschaft/
METHOD:PUBLISH
END:VEVENT
END:VCALENDAR