BEGIN:VCALENDAR
VERSION:2.0
PRODID:spatie/icalendar-generator
DESCRIPTION:Veranstaltungen von Schachclub Ramstein-Miesenbach
X-WR-CALDESC:Veranstaltungen von Schachclub Ramstein-Miesenbach
REFRESH-INTERVAL;VALUE=DURATION:PT1440M
X-PUBLISHED-TTL:PT1440M
BEGIN:VTIMEZONE
TZID:Europe/Berlin
BEGIN:DAYLIGHT
DTSTART:20240331T020000Z
TZOFFSETFROM:+0100
TZOFFSETTO:+0200
END:DAYLIGHT
BEGIN:STANDARD
DTSTART:20241027T030000Z
TZOFFSETFROM:+0200
TZOFFSETTO:+0100
END:STANDARD
END:VTIMEZONE
BEGIN:VTIMEZONE
TZID:UTC
BEGIN:STANDARD
DTSTART:20250724T133412Z
TZOFFSETFROM:+0000
TZOFFSETTO:+0000
END:STANDARD
END:VTIMEZONE
BEGIN:VEVENT
UID:605-117
DTSTAMP:20260420T133412Z
SUMMARY:Deutsche Fraueneinzelmeisterschaften
LOCATION:
ORGANIZER;CN=Werner Weller:MAILTO:we.weller@t-online.de
DTSTART;TZID=Europe/Berlin;VALUE=DATE:20240818
DTEND;TZID=Europe/Berlin;VALUE=DATE:20240826
X-ALT-DESC;FMTTYPE=TEXT/HTML:Lena Mader präsentiert Rheinland-Pfalz auf de
 r Bundesebene. Wir wünschen ihr viel Erfolg!
CATEGORIES:Verein
URL;VALUE=URI:https://sc-ramsteinmiesenbach.de/mc-events/deutsche-frauenein
 zelmeisterschaften/
METHOD:PUBLISH
END:VEVENT
END:VCALENDAR