BEGIN:VCALENDAR
VERSION:2.0
PRODID:spatie/icalendar-generator
DESCRIPTION:Veranstaltungen von Schachclub Ramstein-Miesenbach
X-WR-CALDESC:Veranstaltungen von Schachclub Ramstein-Miesenbach
REFRESH-INTERVAL;VALUE=DURATION:PT1440M
X-PUBLISHED-TTL:PT1440M
BEGIN:VTIMEZONE
TZID:Europe/Berlin
BEGIN:STANDARD
DTSTART:20191027T030000Z
TZOFFSETFROM:+0200
TZOFFSETTO:+0100
END:STANDARD
BEGIN:DAYLIGHT
DTSTART:20200329T020000Z
TZOFFSETFROM:+0100
TZOFFSETTO:+0200
END:DAYLIGHT
END:VTIMEZONE
BEGIN:VTIMEZONE
TZID:UTC
BEGIN:STANDARD
DTSTART:20250729T124301Z
TZOFFSETFROM:+0000
TZOFFSETTO:+0000
END:STANDARD
END:VTIMEZONE
BEGIN:VEVENT
UID:550-550
DTSTAMP:20260425T124301Z
SUMMARY:Pfälzische Schnellschach- und Einzelmeisterschaft
LOCATION:Bürgerhaus Dittweiler Schmittweilerstr. 12  Dittweiler  66903
ORGANIZER;CN=Jochen Meier:MAILTO:jmeier@gmx.de
DTSTART;TZID=Europe/Berlin;VALUE=DATE:20200215
DTEND;TZID=Europe/Berlin;VALUE=DATE:20200216
X-ALT-DESC;FMTTYPE=TEXT/HTML:[pdf-embedder url=\"http://sc-ramsteinmiesenba
 ch.de/wp-content/uploads/2020/03/2019-12-15_Pfaelzer_Schnellschach_Blitz_E
 M_2020.pdf\"]
CATEGORIES:Turniere
URL;VALUE=URI:https://sc-ramsteinmiesenbach.de/mc-events/pfaelzische-schnel
 lschach-und-einzelmeisterschaft/
METHOD:PUBLISH
END:VEVENT
END:VCALENDAR