BEGIN:VCALENDAR
VERSION:2.0
PRODID:spatie/icalendar-generator
DESCRIPTION:Veranstaltungen von Schachclub Ramstein-Miesenbach
X-WR-CALDESC:Veranstaltungen von Schachclub Ramstein-Miesenbach
REFRESH-INTERVAL;VALUE=DURATION:PT1440M
X-PUBLISHED-TTL:PT1440M
BEGIN:VTIMEZONE
TZID:Europe/Berlin
BEGIN:DAYLIGHT
DTSTART:20190331T020000Z
TZOFFSETFROM:+0100
TZOFFSETTO:+0200
END:DAYLIGHT
BEGIN:STANDARD
DTSTART:20191027T030000Z
TZOFFSETFROM:+0200
TZOFFSETTO:+0100
END:STANDARD
BEGIN:DAYLIGHT
DTSTART:20200329T020000Z
TZOFFSETFROM:+0100
TZOFFSETTO:+0200
END:DAYLIGHT
END:VTIMEZONE
BEGIN:VTIMEZONE
TZID:UTC
BEGIN:STANDARD
DTSTART:20250724T111841Z
TZOFFSETFROM:+0000
TZOFFSETTO:+0000
END:STANDARD
END:VTIMEZONE
BEGIN:VEVENT
UID:531-531
DTSTAMP:20260420T111841Z
SUMMARY:13. Frankenthaler Schnellschach-Turnier
LOCATION:Am Strandbad Am Strandbad 108  Frankenthal Rheinland-Pfalz 67227
ORGANIZER;CN=Jochen Meier:MAILTO:jmeier@gmx.de
DTSTART;TZID=Europe/Berlin:20191026T100000
DTEND;TZID=Europe/Berlin:20191026T100000
X-ALT-DESC;FMTTYPE=TEXT/HTML:[pdf-embedder url=\"http://sc-ramsteinmiesenba
 ch.de/wp-content/uploads/2019/07/2019-07-24_Ausschreibung_13.FT-Schnellsch
 ach.pdf\"]
CATEGORIES:Turniere
URL;VALUE=URI:https://sc-ramsteinmiesenbach.de/mc-events/13-frankenthaler-s
 chnellschach-turnier/
METHOD:PUBLISH
END:VEVENT
END:VCALENDAR