BEGIN:VCALENDAR
VERSION:2.0
PRODID:spatie/icalendar-generator
DESCRIPTION:Veranstaltungen von Schachclub Ramstein-Miesenbach
X-WR-CALDESC:Veranstaltungen von Schachclub Ramstein-Miesenbach
REFRESH-INTERVAL;VALUE=DURATION:PT1440M
X-PUBLISHED-TTL:PT1440M
BEGIN:VTIMEZONE
TZID:Europe/Berlin
BEGIN:STANDARD
DTSTART:20171029T030000Z
TZOFFSETFROM:+0200
TZOFFSETTO:+0100
END:STANDARD
BEGIN:DAYLIGHT
DTSTART:20180325T020000Z
TZOFFSETFROM:+0100
TZOFFSETTO:+0200
END:DAYLIGHT
END:VTIMEZONE
BEGIN:VTIMEZONE
TZID:UTC
BEGIN:STANDARD
DTSTART:20250724T192955Z
TZOFFSETFROM:+0000
TZOFFSETTO:+0000
END:STANDARD
END:VTIMEZONE
BEGIN:VEVENT
UID:53-53
DTSTAMP:20260420T192955Z
SUMMARY:Bezirksliga West: SC Niedermohr-Hütschenhausen 2 - SC Ramstein-Mie
 senbach 2
LOCATION:Bürgerhaus Hütschenhausen Hauptstr. 72  Hütschenhausen  66882
ORGANIZER;CN=Jochen Meier:MAILTO:jmeier@gmx.de
DTSTART;TZID=Europe/Berlin:20180318T100000
DTEND;TZID=Europe/Berlin:20180318T100000
X-ALT-DESC;FMTTYPE=TEXT/HTML:
CATEGORIES:Saisonspiele
URL;VALUE=URI:https://sc-ramsteinmiesenbach.de/mc-events/bezirksliga-west-s
 c-niedermohr-huetschenhausen-2-sc-ramstein-miesenbach-2/
METHOD:PUBLISH
END:VEVENT
END:VCALENDAR