BEGIN:VCALENDAR
VERSION:2.0
PRODID:spatie/icalendar-generator
DESCRIPTION:Veranstaltungen von Schachclub Ramstein-Miesenbach
X-WR-CALDESC:Veranstaltungen von Schachclub Ramstein-Miesenbach
REFRESH-INTERVAL;VALUE=DURATION:PT1440M
X-PUBLISHED-TTL:PT1440M
BEGIN:VTIMEZONE
TZID:Europe/Berlin
BEGIN:STANDARD
DTSTART:20221030T030000Z
TZOFFSETFROM:+0200
TZOFFSETTO:+0100
END:STANDARD
BEGIN:DAYLIGHT
DTSTART:20230326T020000Z
TZOFFSETFROM:+0100
TZOFFSETTO:+0200
END:DAYLIGHT
END:VTIMEZONE
BEGIN:VTIMEZONE
TZID:UTC
BEGIN:STANDARD
DTSTART:20250725T000738Z
TZOFFSETFROM:+0000
TZOFFSETTO:+0000
END:STANDARD
END:VTIMEZONE
BEGIN:VEVENT
UID:517-517
DTSTAMP:20260421T000738Z
SUMMARY:Kreisliga: SG Ramstein-Niedermohr 4 - SC Ohmbach
LOCATION:Rathaus Niedermohr Schulstr. 11  Niedermohr Rheinland-Pfalz 66879
ORGANIZER;CN=Jochen Meier:MAILTO:jmeier@gmx.de
DTSTART;TZID=Europe/Berlin:20230416T100000
DTEND;TZID=Europe/Berlin:20230416T100000
X-ALT-DESC;FMTTYPE=TEXT/HTML:
CATEGORIES:Saisonspiele
URL;VALUE=URI:https://sc-ramsteinmiesenbach.de/mc-events/kreisliga-sg-ramst
 ein-niedermohr-4-sc-ohmbach/
METHOD:PUBLISH
END:VEVENT
END:VCALENDAR