BEGIN:VCALENDAR
VERSION:2.0
PRODID:spatie/icalendar-generator
DESCRIPTION:Veranstaltungen von Schachclub Ramstein-Miesenbach
X-WR-CALDESC:Veranstaltungen von Schachclub Ramstein-Miesenbach
REFRESH-INTERVAL;VALUE=DURATION:PT1440M
X-PUBLISHED-TTL:PT1440M
BEGIN:VTIMEZONE
TZID:Europe/Berlin
BEGIN:STANDARD
DTSTART:20181028T030000Z
TZOFFSETFROM:+0200
TZOFFSETTO:+0100
END:STANDARD
BEGIN:DAYLIGHT
DTSTART:20190331T020000Z
TZOFFSETFROM:+0100
TZOFFSETTO:+0200
END:DAYLIGHT
END:VTIMEZONE
BEGIN:VTIMEZONE
TZID:UTC
BEGIN:STANDARD
DTSTART:20250730T013257Z
TZOFFSETFROM:+0000
TZOFFSETTO:+0000
END:STANDARD
END:VTIMEZONE
BEGIN:VEVENT
UID:34-34
DTSTAMP:20260426T013257Z
SUMMARY:Ostereier-Blitz-Turnier in Lauterecken
LOCATION:Bürgersaal Schulstr. 10  Lauterecken  67742
ORGANIZER;CN=Jochen Meier:MAILTO:jmeier@gmx.de
DTSTART;TZID=Europe/Berlin:20190418T193000
DTEND;TZID=Europe/Berlin:20190418T233000
X-ALT-DESC;FMTTYPE=TEXT/HTML:Anmeldung nicht erforderlich. Alle dürfen tei
 lnehmen. Teilnahmegebühr 2\,50 Euro (Erwachsene)\; Kinder 1 Euro Unkosten
 beitrag Preise: 500 Ostereier + Schokopreise Gründonnerstag\, 18. April\,
  20 Uhr (Erwachsene)\, 19.30 Uhr Jugend\, Bürgersaal Schulstr. 10 67742 L
 auterecken Martin Köhler\, Schriftführer
CATEGORIES:Turniere
URL;VALUE=URI:https://sc-ramsteinmiesenbach.de/mc-events/ostereier-blitz-tu
 rnier-in-lauterecken/
METHOD:PUBLISH
END:VEVENT
END:VCALENDAR