BEGIN:VCALENDAR
VERSION:2.0
PRODID:spatie/icalendar-generator
DESCRIPTION:Veranstaltungen von Schachclub Ramstein-Miesenbach
X-WR-CALDESC:Veranstaltungen von Schachclub Ramstein-Miesenbach
REFRESH-INTERVAL;VALUE=DURATION:PT1440M
X-PUBLISHED-TTL:PT1440M
BEGIN:VTIMEZONE
TZID:Europe/Berlin
BEGIN:DAYLIGHT
DTSTART:20220327T020000Z
TZOFFSETFROM:+0100
TZOFFSETTO:+0200
END:DAYLIGHT
BEGIN:STANDARD
DTSTART:20221030T030000Z
TZOFFSETFROM:+0200
TZOFFSETTO:+0100
END:STANDARD
END:VTIMEZONE
BEGIN:VTIMEZONE
TZID:UTC
BEGIN:STANDARD
DTSTART:20250729T020038Z
TZOFFSETFROM:+0000
TZOFFSETTO:+0000
END:STANDARD
END:VTIMEZONE
BEGIN:VEVENT
UID:321-321
DTSTAMP:20260425T020038Z
SUMMARY:Trainingsabend mit “Schachtherapeut” Manfred Herbold
LOCATION:Haus der Vereine (ehem. alte Schule Miesenbach) Hauptstr. 28  Rams
 tein-Miesenbach  66877
ORGANIZER;CN=Jochen Meier:MAILTO:jmeier@gmx.de
DTSTART;TZID=Europe/Berlin:20220826T200000
DTEND;TZID=Europe/Berlin:20220826T220000
X-ALT-DESC;FMTTYPE=TEXT/HTML:Thema: Die verirrte Figur Für diesen Training
 sabend sind auch Schachspieler:innen aus anderen Vereinen recht herzlich e
 ingeladen. Außerdem gibt es die Möglichkeit neuwertige Schachbücher zu 
 einem stark reduzierten Preis zu erwerben. Bücher von mir werden gerne au
 ch (kostenfrei) signiert und/oder mit persönlicher Widmung versehen. Das 
 o.g. Thema ist mein Lieblingsthema\, weil ich es von beiden Seiten&amp;hellip\
 ;
CATEGORIES:Training
URL;VALUE=URI:https://sc-ramsteinmiesenbach.de/mc-events/trainingsabend-mit
 -schachtherapeut-manfred-herbold-3/
METHOD:PUBLISH
END:VEVENT
END:VCALENDAR