BEGIN:VCALENDAR
VERSION:2.0
PRODID:spatie/icalendar-generator
DESCRIPTION:Veranstaltungen von Schachclub Ramstein-Miesenbach
X-WR-CALDESC:Veranstaltungen von Schachclub Ramstein-Miesenbach
REFRESH-INTERVAL;VALUE=DURATION:PT1440M
X-PUBLISHED-TTL:PT1440M
BEGIN:VTIMEZONE
TZID:Europe/Berlin
BEGIN:STANDARD
DTSTART:20181028T030000Z
TZOFFSETFROM:+0200
TZOFFSETTO:+0100
END:STANDARD
BEGIN:DAYLIGHT
DTSTART:20190331T020000Z
TZOFFSETFROM:+0100
TZOFFSETTO:+0200
END:DAYLIGHT
BEGIN:STANDARD
DTSTART:20191027T030000Z
TZOFFSETFROM:+0200
TZOFFSETTO:+0100
END:STANDARD
END:VTIMEZONE
BEGIN:VTIMEZONE
TZID:UTC
BEGIN:STANDARD
DTSTART:20250725T040949Z
TZOFFSETFROM:+0000
TZOFFSETTO:+0000
END:STANDARD
END:VTIMEZONE
BEGIN:VEVENT
UID:281-281
DTSTAMP:20260421T040949Z
SUMMARY:Fischerfest Mannschaftsblitzturnier
LOCATION:Festhalle im Waldpark   Altrip  67122
ORGANIZER;CN=Jochen Meier:MAILTO:jmeier@gmx.de
DTSTART;TZID=Europe/Berlin;VALUE=DATE:20190707
DTEND;TZID=Europe/Berlin;VALUE=DATE:20190708
X-ALT-DESC;FMTTYPE=TEXT/HTML:Ausschreibung Termin Sonntag\, 7. Juli 2019 An
 meldung direkt am Spielort in der Festhalle Meldeschluss 09:00 Uhr Beginn 
 09:15 Uhr Modus 5-min.-Blitzturnier für 4er-Mannschaften Spielort Altrip 
 (Rhein-Pfalz-Kreis)\, Festhalle im Waldpark Startgeld 20\,00 Euro pro Mann
 schaft Preise Pokale und Sachpreise Auskunft Norbert Kugel\, Böcklinstr. 
 43d\, 67122 Altrip\, Tel.: 06236 / 449080 Bitte bringen Sie pro Mannschaft
  zwei&amp;hellip\;
CATEGORIES:Turniere
URL;VALUE=URI:https://sc-ramsteinmiesenbach.de/mc-events/fischerfest-mannsc
 haftsblitzturnier/
METHOD:PUBLISH
END:VEVENT
END:VCALENDAR