BEGIN:VCALENDAR
VERSION:2.0
PRODID:spatie/icalendar-generator
DESCRIPTION:Veranstaltungen von Schachclub Ramstein-Miesenbach
X-WR-CALDESC:Veranstaltungen von Schachclub Ramstein-Miesenbach
REFRESH-INTERVAL;VALUE=DURATION:PT1440M
X-PUBLISHED-TTL:PT1440M
BEGIN:VTIMEZONE
TZID:Europe/Berlin
BEGIN:STANDARD
DTSTART:20211031T030000Z
TZOFFSETFROM:+0200
TZOFFSETTO:+0100
END:STANDARD
BEGIN:DAYLIGHT
DTSTART:20220327T020000Z
TZOFFSETFROM:+0100
TZOFFSETTO:+0200
END:DAYLIGHT
BEGIN:STANDARD
DTSTART:20221030T030000Z
TZOFFSETFROM:+0200
TZOFFSETTO:+0100
END:STANDARD
END:VTIMEZONE
BEGIN:VTIMEZONE
TZID:UTC
BEGIN:STANDARD
DTSTART:20250729T130830Z
TZOFFSETFROM:+0000
TZOFFSETTO:+0000
END:STANDARD
END:VTIMEZONE
BEGIN:VEVENT
UID:185-185
DTSTAMP:20260425T130830Z
SUMMARY:Monatsblitzturnier
LOCATION:Haus der Vereine (ehem. alte Schule Miesenbach) Hauptstr. 28  Rams
 tein-Miesenbach  66877
ORGANIZER;CN=Jochen Meier:MAILTO:jmeier@gmx.de
DTSTART;TZID=Europe/Berlin:20220701T194500
DTEND;TZID=Europe/Berlin:20220701T233000
X-ALT-DESC;FMTTYPE=TEXT/HTML:Hallo Schachfreunde\, nach der Pandemie wollen
  wir wieder das Schachleben aktivieren. Aus diesem Grunde wollen wir versu
 chen wieder ein Monatsblitzturnier ins Leben zu rufen. Anmeldeschluss ist 
 um 19.45 Uhr. Beginn ist um 20.00 Uhr. Falls eine entsprechende Ressonaz f
 estzustellen ist\, findet die nächste Runde am 05. August 2022 statt. Wir
  würden uns freuen\, auch einige&amp;hellip\;
CATEGORIES:Turniere
URL;VALUE=URI:https://sc-ramsteinmiesenbach.de/mc-events/monatsblitzturnier
 /
METHOD:PUBLISH
END:VEVENT
END:VCALENDAR