BEGIN:VCALENDAR
VERSION:2.0
PRODID:spatie/icalendar-generator
DESCRIPTION:Veranstaltungen von Schachclub Ramstein-Miesenbach
X-WR-CALDESC:Veranstaltungen von Schachclub Ramstein-Miesenbach
REFRESH-INTERVAL;VALUE=DURATION:PT1440M
X-PUBLISHED-TTL:PT1440M
BEGIN:VTIMEZONE
TZID:Europe/Berlin
BEGIN:DAYLIGHT
DTSTART:20220327T020000Z
TZOFFSETFROM:+0100
TZOFFSETTO:+0200
END:DAYLIGHT
BEGIN:STANDARD
DTSTART:20221030T030000Z
TZOFFSETFROM:+0200
TZOFFSETTO:+0100
END:STANDARD
END:VTIMEZONE
BEGIN:VTIMEZONE
TZID:UTC
BEGIN:STANDARD
DTSTART:20250728T183855Z
TZOFFSETFROM:+0000
TZOFFSETTO:+0000
END:STANDARD
END:VTIMEZONE
BEGIN:VEVENT
UID:161-161
DTSTAMP:20260424T183855Z
SUMMARY:Kreisklasse B: SC Mackenbach 3 - SG Ramstein-Niedermohr 5
LOCATION:Bürgerstube Schulstr. 10  Mackenbach  67686
ORGANIZER;CN=Jochen Meier:MAILTO:jmeier@gmx.de
DTSTART;TZID=Europe/Berlin:20220911T100000
DTEND;TZID=Europe/Berlin:20220911T100000
X-ALT-DESC;FMTTYPE=TEXT/HTML:
CATEGORIES:Saisonspiele
URL;VALUE=URI:https://sc-ramsteinmiesenbach.de/mc-events/kreisklasse-b-sc-m
 ackenbach-3-sg-ramstein-niedermohr-5/
METHOD:PUBLISH
END:VEVENT
END:VCALENDAR