BEGIN:VCALENDAR
VERSION:2.0
PRODID:spatie/icalendar-generator
DESCRIPTION:Veranstaltungen von Schachclub Ramstein-Miesenbach
X-WR-CALDESC:Veranstaltungen von Schachclub Ramstein-Miesenbach
REFRESH-INTERVAL;VALUE=DURATION:PT1440M
X-PUBLISHED-TTL:PT1440M
BEGIN:VTIMEZONE
TZID:Europe/Berlin
BEGIN:DAYLIGHT
DTSTART:20190331T020000Z
TZOFFSETFROM:+0100
TZOFFSETTO:+0200
END:DAYLIGHT
BEGIN:STANDARD
DTSTART:20191027T030000Z
TZOFFSETFROM:+0200
TZOFFSETTO:+0100
END:STANDARD
END:VTIMEZONE
BEGIN:VTIMEZONE
TZID:UTC
BEGIN:STANDARD
DTSTART:20250724T222527Z
TZOFFSETFROM:+0000
TZOFFSETTO:+0000
END:STANDARD
END:VTIMEZONE
BEGIN:VEVENT
UID:159-159
DTSTAMP:20260420T222527Z
SUMMARY:Internationales Spielfest &amp;amp\; Familientag
LOCATION:Sportanlage des FVO Am Hocht 1  Ramstein-Miesenbach Rheinland-Pfal
 z 66877
ORGANIZER;CN=Jochen Meier:MAILTO:jmeier@gmx.de
DTSTART;TZID=Europe/Berlin:20190810T100000
DTEND;TZID=Europe/Berlin:20190810T150000
X-ALT-DESC;FMTTYPE=TEXT/HTML:Wir sind ebenfalls bei dem FV Olympia Ramstein
  zu Gast und stellen uns und das Schachspiel vor. Wir haben ein Terassensc
 hach und mehrere Bretter im Gepäck und freuen uns viele (zukünftige) Sch
 achspieler an unserem Stand begrüßen zu dürfen.
CATEGORIES:Verein
URL;VALUE=URI:https://sc-ramsteinmiesenbach.de/mc-events/internationales-sp
 ielfest-familientag/
METHOD:PUBLISH
END:VEVENT
END:VCALENDAR