BEGIN:VCALENDAR
VERSION:2.0
PRODID:spatie/icalendar-generator
DESCRIPTION:Veranstaltungen von Schachclub Ramstein-Miesenbach
X-WR-CALDESC:Veranstaltungen von Schachclub Ramstein-Miesenbach
REFRESH-INTERVAL;VALUE=DURATION:PT1440M
X-PUBLISHED-TTL:PT1440M
BEGIN:VTIMEZONE
TZID:Europe/Berlin
BEGIN:STANDARD
DTSTART:20251026T030000Z
TZOFFSETFROM:+0200
TZOFFSETTO:+0100
END:STANDARD
BEGIN:DAYLIGHT
DTSTART:20260329T020000Z
TZOFFSETFROM:+0100
TZOFFSETTO:+0200
END:DAYLIGHT
END:VTIMEZONE
BEGIN:VTIMEZONE
TZID:UTC
BEGIN:STANDARD
DTSTART:20250726T163344Z
TZOFFSETFROM:+0000
TZOFFSETTO:+0000
END:STANDARD
END:VTIMEZONE
BEGIN:VEVENT
UID:940-943
DTSTAMP:20260422T163344Z
SUMMARY:PSB – Schnellschach – Grand – Prix 2025/2026 in Pirmasens
LOCATION:
ORGANIZER;CN=Werner Weller:MAILTO:we.weller@t-online.de
DTSTART;TZID=Europe/Berlin;VALUE=DATE:20260307
DTEND;TZID=Europe/Berlin;VALUE=DATE:20260308
X-ALT-DESC;FMTTYPE=TEXT/HTML:<p>SC Pirmasens\, Mehrzweckhalle Gersbach\, Ki
 ndergartenstraße 1\, 66954 Pirmasens<br />\nTeilnehmerbegrenzung: 150<br />\nhttps://s3.chess-results.com/tnr1271870.aspx?lan=0&amp;amp\;SNode=S0</p>\n
CATEGORIES:Turniere
URL;VALUE=URI:https://sc-ramsteinmiesenbach.de/mc-events/psb-schnellschach-
 grand-prix-2025-2026-in-pirmasens/
METHOD:PUBLISH
END:VEVENT
END:VCALENDAR