BEGIN:VCALENDAR
VERSION:2.0
PRODID:spatie/icalendar-generator
DESCRIPTION:Veranstaltungen von Schachclub Ramstein-Miesenbach
X-WR-CALDESC:Veranstaltungen von Schachclub Ramstein-Miesenbach
REFRESH-INTERVAL;VALUE=DURATION:PT1440M
X-PUBLISHED-TTL:PT1440M
BEGIN:VTIMEZONE
TZID:Europe/Berlin
BEGIN:DAYLIGHT
DTSTART:20260329T020000Z
TZOFFSETFROM:+0100
TZOFFSETTO:+0200
END:DAYLIGHT
BEGIN:STANDARD
DTSTART:20261025T030000Z
TZOFFSETFROM:+0200
TZOFFSETTO:+0100
END:STANDARD
END:VTIMEZONE
BEGIN:VTIMEZONE
TZID:UTC
BEGIN:STANDARD
DTSTART:20250728T144540Z
TZOFFSETFROM:+0000
TZOFFSETTO:+0000
END:STANDARD
END:VTIMEZONE
BEGIN:VEVENT
UID:931-941
DTSTAMP:20260424T144540Z
SUMMARY:Vlissingen Open (NL)
LOCATION:
ORGANIZER;CN=Werner Weller:MAILTO:we.weller@t-online.de
DTSTART;TZID=Europe/Berlin;VALUE=DATE:20260801
DTEND;TZID=Europe/Berlin;VALUE=DATE:20260809
X-ALT-DESC;FMTTYPE=TEXT/HTML:<p>Terminplan: https://www.hztoernooi.nl/en/in
 formation/</p>\n
CATEGORIES:Turniere
URL;VALUE=URI:https://sc-ramsteinmiesenbach.de/mc-events/vlissingen-open-nl
 /
METHOD:PUBLISH
END:VEVENT
END:VCALENDAR