BEGIN:VCALENDAR
VERSION:2.0
PRODID:spatie/icalendar-generator
DESCRIPTION:Veranstaltungen von Schachclub Ramstein-Miesenbach
X-WR-CALDESC:Veranstaltungen von Schachclub Ramstein-Miesenbach
REFRESH-INTERVAL;VALUE=DURATION:PT1440M
X-PUBLISHED-TTL:PT1440M
BEGIN:VTIMEZONE
TZID:Europe/Berlin
BEGIN:STANDARD
DTSTART:20261025T030000Z
TZOFFSETFROM:+0200
TZOFFSETTO:+0100
END:STANDARD
BEGIN:DAYLIGHT
DTSTART:20270328T020000Z
TZOFFSETFROM:+0100
TZOFFSETTO:+0200
END:DAYLIGHT
END:VTIMEZONE
BEGIN:VTIMEZONE
TZID:UTC
BEGIN:STANDARD
DTSTART:20250728T110024Z
TZOFFSETFROM:+0000
TZOFFSETTO:+0000
END:STANDARD
END:VTIMEZONE
BEGIN:VEVENT
UID:908-923
DTSTAMP:20260424T110024Z
SUMMARY:Pfalzmeisterschaften Schachjugend Pfalz 2027
LOCATION:
ORGANIZER;CN=Werner Weller:MAILTO:we.weller@t-online.de
DTSTART;TZID=Europe/Berlin;VALUE=DATE:20270102
DTEND;TZID=Europe/Berlin;VALUE=DATE:20270107
X-ALT-DESC;FMTTYPE=TEXT/HTML:Jugendherberge Bad Dürkheim
CATEGORIES:Turniere
URL;VALUE=URI:https://sc-ramsteinmiesenbach.de/mc-events/pfalzmeisterschaft
 en-schachjugend-pfalz-2027/
METHOD:PUBLISH
END:VEVENT
END:VCALENDAR