BEGIN:VCALENDAR
VERSION:2.0
PRODID:spatie/icalendar-generator
DESCRIPTION:Veranstaltungen von Schachclub Ramstein-Miesenbach
X-WR-CALDESC:Veranstaltungen von Schachclub Ramstein-Miesenbach
REFRESH-INTERVAL;VALUE=DURATION:PT1440M
X-PUBLISHED-TTL:PT1440M
BEGIN:VTIMEZONE
TZID:Europe/Berlin
BEGIN:STANDARD
DTSTART:20181028T030000Z
TZOFFSETFROM:+0200
TZOFFSETTO:+0100
END:STANDARD
BEGIN:DAYLIGHT
DTSTART:20190331T020000Z
TZOFFSETFROM:+0100
TZOFFSETTO:+0200
END:DAYLIGHT
END:VTIMEZONE
BEGIN:VTIMEZONE
TZID:UTC
BEGIN:STANDARD
DTSTART:20250730T025914Z
TZOFFSETFROM:+0000
TZOFFSETTO:+0000
END:STANDARD
END:VTIMEZONE
BEGIN:VEVENT
UID:9-9
DTSTAMP:20260426T025914Z
SUMMARY:Jahreshauptversammlung mit Neuwahlen
LOCATION:Haus der Vereine (ehem. alte Schule Miesenbach) Hauptstr. 28  Rams
 tein-Miesenbach  66877
ORGANIZER;CN=Jochen Meier:MAILTO:jmeier@gmx.de
DTSTART;TZID=Europe/Berlin:20190412T200000
DTEND;TZID=Europe/Berlin:20190412T200000
X-ALT-DESC;FMTTYPE=TEXT/HTML:Tagesordnung: 1.) Begrüßung 2.) Bericht der 
 Vorstandschaft 3.) Bericht der Kassenprüfer 4.) Entlastung 5.) Neuwahlen 
 6.) Anträge/ Sonstiges (Anträge sind spätestens bis 07.04.2019 beim 1. 
 Vorsitzenden einzureichen)
CATEGORIES:Verein
URL;VALUE=URI:https://sc-ramsteinmiesenbach.de/mc-events/jahreshauptversamm
 lung-mit-neuwahlen/
METHOD:PUBLISH
END:VEVENT
END:VCALENDAR