BEGIN:VCALENDAR
VERSION:2.0
PRODID:spatie/icalendar-generator
DESCRIPTION:Veranstaltungen von Schachclub Ramstein-Miesenbach
X-WR-CALDESC:Veranstaltungen von Schachclub Ramstein-Miesenbach
REFRESH-INTERVAL;VALUE=DURATION:PT1440M
X-PUBLISHED-TTL:PT1440M
BEGIN:VTIMEZONE
TZID:Europe/Berlin
BEGIN:STANDARD
DTSTART:20171029T030000Z
TZOFFSETFROM:+0200
TZOFFSETTO:+0100
END:STANDARD
BEGIN:DAYLIGHT
DTSTART:20180325T020000Z
TZOFFSETFROM:+0100
TZOFFSETTO:+0200
END:DAYLIGHT
BEGIN:STANDARD
DTSTART:20181028T030000Z
TZOFFSETFROM:+0200
TZOFFSETTO:+0100
END:STANDARD
END:VTIMEZONE
BEGIN:VTIMEZONE
TZID:UTC
BEGIN:STANDARD
DTSTART:20250728T091424Z
TZOFFSETFROM:+0000
TZOFFSETTO:+0000
END:STANDARD
END:VTIMEZONE
BEGIN:VEVENT
UID:473-473
DTSTAMP:20260424T091424Z
SUMMARY:5. Edgar-Velten-Gedenkturnier 2018
LOCATION:Saar-Pfalz-Halle Eichendorffstr.  Homburg-Einöd  66424
ORGANIZER;CN=Jochen Meier:MAILTO:jmeier@gmx.de
DTSTART;TZID=Europe/Berlin:20180708T140000
DTEND;TZID=Europe/Berlin:20180708T140000
X-ALT-DESC;FMTTYPE=TEXT/HTML:[pdf-embedder url=\"http://sc-ramsteinmiesenba
 ch.de/wp-content/uploads/2018/09/Ausschreibung_Edgar_Velten_2018.pdf\"]
CATEGORIES:Turniere
URL;VALUE=URI:https://sc-ramsteinmiesenbach.de/mc-events/5-edgar-velten-ged
 enkturnier-2018/
METHOD:PUBLISH
END:VEVENT
END:VCALENDAR