BEGIN:VCALENDAR
VERSION:2.0
PRODID:spatie/icalendar-generator
DESCRIPTION:Veranstaltungen von Schachclub Ramstein-Miesenbach
X-WR-CALDESC:Veranstaltungen von Schachclub Ramstein-Miesenbach
REFRESH-INTERVAL;VALUE=DURATION:PT1440M
X-PUBLISHED-TTL:PT1440M
BEGIN:VTIMEZONE
TZID:Europe/Berlin
BEGIN:DAYLIGHT
DTSTART:20220327T020000Z
TZOFFSETFROM:+0100
TZOFFSETTO:+0200
END:DAYLIGHT
BEGIN:STANDARD
DTSTART:20221030T030000Z
TZOFFSETFROM:+0200
TZOFFSETTO:+0100
END:STANDARD
END:VTIMEZONE
BEGIN:VTIMEZONE
TZID:UTC
BEGIN:STANDARD
DTSTART:20250728T221142Z
TZOFFSETFROM:+0000
TZOFFSETTO:+0000
END:STANDARD
END:VTIMEZONE
BEGIN:VEVENT
UID:446-446
DTSTAMP:20260424T221142Z
SUMMARY:Schach International
LOCATION:Jugendbüro VG Ramstein-Miesenbach Steinwendener Str. 4  Ramstein-
 Miesenbach Rheinland-Pfalz 66877
ORGANIZER;CN=Jochen Meier:MAILTO:jmeier@gmx.de
DTSTART;TZID=Europe/Berlin:20220830T190000
DTEND;TZID=Europe/Berlin:20220830T210000
X-ALT-DESC;FMTTYPE=TEXT/HTML:Der Schachclub Ramstein-Miesenbach bietet ab d
 em 30. August in den Räumlichkeiten des Jugendbüros in der Steinwendener
  Str. 4 jeweils dienstags ab 19-21 Uhr Schach für Erwachsene an. Mit Scha
 ch International\" möchten wir unsere ausländischen Mitbürger in unsere
 r Region ansprechen und Ihnen das Schachspiel näherbringen. Anfänger mit
  und ohne Schachkenntnisse sind genauso willkommen wie schon erfahrene&amp;hel
 lip\;
CATEGORIES:Training
URL;VALUE=URI:https://sc-ramsteinmiesenbach.de/mc-events/schach-internation
 al/
METHOD:PUBLISH
END:VEVENT
END:VCALENDAR