BEGIN:VCALENDAR
VERSION:2.0
PRODID:spatie/icalendar-generator
DESCRIPTION:Veranstaltungen von Schachclub Ramstein-Miesenbach
X-WR-CALDESC:Veranstaltungen von Schachclub Ramstein-Miesenbach
REFRESH-INTERVAL;VALUE=DURATION:PT1440M
X-PUBLISHED-TTL:PT1440M
BEGIN:VTIMEZONE
TZID:Europe/Berlin
BEGIN:STANDARD
DTSTART:20201025T030000Z
TZOFFSETFROM:+0200
TZOFFSETTO:+0100
END:STANDARD
BEGIN:DAYLIGHT
DTSTART:20210328T020000Z
TZOFFSETFROM:+0100
TZOFFSETTO:+0200
END:DAYLIGHT
BEGIN:STANDARD
DTSTART:20211031T030000Z
TZOFFSETFROM:+0200
TZOFFSETTO:+0100
END:STANDARD
END:VTIMEZONE
BEGIN:VTIMEZONE
TZID:UTC
BEGIN:STANDARD
DTSTART:20250730T001554Z
TZOFFSETFROM:+0000
TZOFFSETTO:+0000
END:STANDARD
END:VTIMEZONE
BEGIN:VEVENT
UID:37-37
DTSTAMP:20260426T001554Z
SUMMARY:Offene Rheinland-Pfalz-Frauen-Einzelmeisterschaft
LOCATION:Aula der Paternus-Schule Grabenstr. 50  Worms-Pfeddersheim  67551
ORGANIZER;CN=Jochen Meier:MAILTO:jmeier@gmx.de
DTSTART;TZID=Europe/Berlin;VALUE=DATE:20210709
DTEND;TZID=Europe/Berlin;VALUE=DATE:20210712
X-ALT-DESC;FMTTYPE=TEXT/HTML:[pdf-embedder url=\"http://sc-ramsteinmiesenba
 ch.de/wp-content/uploads/2021/06/2020-12-20_Ausschreibung-SB-RLP-Einzelmei
 sterschaft-2021_V02.pdf\" title=\"2020-12-20_Ausschreibung SB-RLP-Einzelme
 isterschaft 2021_V02\"]
CATEGORIES:Turniere
URL;VALUE=URI:https://sc-ramsteinmiesenbach.de/mc-events/offene-rheinland-p
 falz-frauen-einzelmeisterschaft/
METHOD:PUBLISH
END:VEVENT
END:VCALENDAR