BEGIN:VCALENDAR
VERSION:2.0
PRODID:spatie/icalendar-generator
DESCRIPTION:Veranstaltungen von Schachclub Ramstein-Miesenbach
X-WR-CALDESC:Veranstaltungen von Schachclub Ramstein-Miesenbach
REFRESH-INTERVAL;VALUE=DURATION:PT1440M
X-PUBLISHED-TTL:PT1440M
BEGIN:VTIMEZONE
TZID:Europe/Berlin
BEGIN:STANDARD
DTSTART:20171029T030000Z
TZOFFSETFROM:+0200
TZOFFSETTO:+0100
END:STANDARD
BEGIN:DAYLIGHT
DTSTART:20180325T020000Z
TZOFFSETFROM:+0100
TZOFFSETTO:+0200
END:DAYLIGHT
BEGIN:STANDARD
DTSTART:20181028T030000Z
TZOFFSETFROM:+0200
TZOFFSETTO:+0100
END:STANDARD
END:VTIMEZONE
BEGIN:VTIMEZONE
TZID:UTC
BEGIN:STANDARD
DTSTART:20250725T093910Z
TZOFFSETFROM:+0000
TZOFFSETTO:+0000
END:STANDARD
END:VTIMEZONE
BEGIN:VEVENT
UID:353-353
DTSTAMP:20260421T093910Z
SUMMARY:Kreisklasse B Zentralrunde: SC Ohmbach 3 - SC Ramstein-Miesenbach 6
LOCATION:Alte Schule Am Kirchplatz 13  Birkenfeld  55765
ORGANIZER;CN=Jochen Meier:MAILTO:jmeier@gmx.de
DTSTART;TZID=Europe/Berlin:20180429T100000
DTEND;TZID=Europe/Berlin:20180429T100000
X-ALT-DESC;FMTTYPE=TEXT/HTML:
CATEGORIES:Saisonspiele
URL;VALUE=URI:https://sc-ramsteinmiesenbach.de/mc-events/kreisklasse-b-zent
 ralrunde-sc-ohmbach-3-sc-ramstein-miesenbach-6/
METHOD:PUBLISH
END:VEVENT
END:VCALENDAR