BEGIN:VCALENDAR
VERSION:2.0
PRODID:spatie/icalendar-generator
DESCRIPTION:Veranstaltungen von Schachclub Ramstein-Miesenbach
X-WR-CALDESC:Veranstaltungen von Schachclub Ramstein-Miesenbach
REFRESH-INTERVAL;VALUE=DURATION:PT1440M
X-PUBLISHED-TTL:PT1440M
BEGIN:VTIMEZONE
TZID:Europe/Berlin
BEGIN:STANDARD
DTSTART:20181028T030000Z
TZOFFSETFROM:+0200
TZOFFSETTO:+0100
END:STANDARD
BEGIN:DAYLIGHT
DTSTART:20190331T020000Z
TZOFFSETFROM:+0100
TZOFFSETTO:+0200
END:DAYLIGHT
END:VTIMEZONE
BEGIN:VTIMEZONE
TZID:UTC
BEGIN:STANDARD
DTSTART:20250725T004959Z
TZOFFSETFROM:+0000
TZOFFSETTO:+0000
END:STANDARD
END:VTIMEZONE
BEGIN:VEVENT
UID:338-338
DTSTAMP:20260421T004959Z
SUMMARY:Pfälzische Jugendeinzelmeisterschaft U 10
LOCATION:Jugendhaus St.Christopherus Schillerstr. 151  Bad Dürkheim  67098
ORGANIZER;CN=Jochen Meier:MAILTO:jmeier@gmx.de
DTSTART;TZID=Europe/Berlin;VALUE=DATE:20190112
DTEND;TZID=Europe/Berlin;VALUE=DATE:20190113
X-ALT-DESC;FMTTYPE=TEXT/HTML:[pdf-embedder url=\"http://sc-ramsteinmiesenba
 ch.de/wp-content/uploads/2019/01/Ausschreibung-SJP-U10-2019.pdf\" title=\"
 Ausschreibung SJP U10 2019\"]
CATEGORIES:Turniere
URL;VALUE=URI:https://sc-ramsteinmiesenbach.de/mc-events/pfaelzische-jugend
 einzelmeisterschaft-u-10/
METHOD:PUBLISH
END:VEVENT
END:VCALENDAR