BEGIN:VCALENDAR
VERSION:2.0
PRODID:spatie/icalendar-generator
DESCRIPTION:Veranstaltungen von Schachclub Ramstein-Miesenbach
X-WR-CALDESC:Veranstaltungen von Schachclub Ramstein-Miesenbach
REFRESH-INTERVAL;VALUE=DURATION:PT1440M
X-PUBLISHED-TTL:PT1440M
BEGIN:VTIMEZONE
TZID:Europe/Berlin
BEGIN:DAYLIGHT
DTSTART:20180325T020000Z
TZOFFSETFROM:+0100
TZOFFSETTO:+0200
END:DAYLIGHT
BEGIN:STANDARD
DTSTART:20181028T030000Z
TZOFFSETFROM:+0200
TZOFFSETTO:+0100
END:STANDARD
BEGIN:DAYLIGHT
DTSTART:20190331T020000Z
TZOFFSETFROM:+0100
TZOFFSETTO:+0200
END:DAYLIGHT
END:VTIMEZONE
BEGIN:VTIMEZONE
TZID:UTC
BEGIN:STANDARD
DTSTART:20250725T135346Z
TZOFFSETFROM:+0000
TZOFFSETTO:+0000
END:STANDARD
END:VTIMEZONE
BEGIN:VEVENT
UID:336-336
DTSTAMP:20260421T135346Z
SUMMARY:Bezirksliga West: SV Kohlbachtal - SC Ramstein-Miesenbach 2
LOCATION:Bürgerhaus Dittweiler Schmittweilerstr. 12  Dittweiler  66903
ORGANIZER;CN=Jochen Meier:MAILTO:jmeier@gmx.de
DTSTART;TZID=Europe/Berlin:20181202T100000
DTEND;TZID=Europe/Berlin:20181202T100000
X-ALT-DESC;FMTTYPE=TEXT/HTML:
CATEGORIES:Saisonspiele
URL;VALUE=URI:https://sc-ramsteinmiesenbach.de/mc-events/bezirksliga-west-s
 v-kohlbachtal-sc-ramstein-miesenbach-2/
METHOD:PUBLISH
END:VEVENT
END:VCALENDAR