BEGIN:VCALENDAR
VERSION:2.0
PRODID:spatie/icalendar-generator
DESCRIPTION:Veranstaltungen von Schachclub Ramstein-Miesenbach
X-WR-CALDESC:Veranstaltungen von Schachclub Ramstein-Miesenbach
REFRESH-INTERVAL;VALUE=DURATION:PT1440M
X-PUBLISHED-TTL:PT1440M
BEGIN:VTIMEZONE
TZID:Europe/Berlin
BEGIN:DAYLIGHT
DTSTART:20190331T020000Z
TZOFFSETFROM:+0100
TZOFFSETTO:+0200
END:DAYLIGHT
BEGIN:STANDARD
DTSTART:20191027T030000Z
TZOFFSETFROM:+0200
TZOFFSETTO:+0100
END:STANDARD
END:VTIMEZONE
BEGIN:VTIMEZONE
TZID:UTC
BEGIN:STANDARD
DTSTART:20250725T115902Z
TZOFFSETFROM:+0000
TZOFFSETTO:+0000
END:STANDARD
END:VTIMEZONE
BEGIN:VEVENT
UID:331-331
DTSTAMP:20260421T115902Z
SUMMARY:Schach macht schlau
LOCATION:Jugendbüro VG Ramstein-Miesenbach Steinwendener Str. 4  Ramstein-
 Miesenbach Rheinland-Pfalz 66877
ORGANIZER;CN=Jochen Meier:MAILTO:jmeier@gmx.de
DTSTART;TZID=Europe/Berlin:20190820T170000
DTEND;TZID=Europe/Berlin:20190820T180000
X-ALT-DESC;FMTTYPE=TEXT/HTML:
CATEGORIES:Verein
URL;VALUE=URI:https://sc-ramsteinmiesenbach.de/mc-events/schach-macht-schla
 u/
METHOD:PUBLISH
END:VEVENT
END:VCALENDAR