BEGIN:VCALENDAR
VERSION:2.0
PRODID:spatie/icalendar-generator
DESCRIPTION:Veranstaltungen von Schachclub Ramstein-Miesenbach
X-WR-CALDESC:Veranstaltungen von Schachclub Ramstein-Miesenbach
REFRESH-INTERVAL;VALUE=DURATION:PT1440M
X-PUBLISHED-TTL:PT1440M
BEGIN:VTIMEZONE
TZID:Europe/Berlin
BEGIN:STANDARD
DTSTART:20191027T030000Z
TZOFFSETFROM:+0200
TZOFFSETTO:+0100
END:STANDARD
BEGIN:DAYLIGHT
DTSTART:20200329T020000Z
TZOFFSETFROM:+0100
TZOFFSETTO:+0200
END:DAYLIGHT
END:VTIMEZONE
BEGIN:VTIMEZONE
TZID:UTC
BEGIN:STANDARD
DTSTART:20250729T034854Z
TZOFFSETFROM:+0000
TZOFFSETTO:+0000
END:STANDARD
END:VTIMEZONE
BEGIN:VEVENT
UID:282-282
DTSTAMP:20260425T034854Z
SUMMARY:14. Bibliotheks-Open
LOCATION:Pfalzbibliothek Bismarckstr. 17  Kaiserslautern Rheinland-Pfalz 67
 655
ORGANIZER;CN=Jochen Meier:MAILTO:jmeier@gmx.de
DTSTART;TZID=Europe/Berlin:20200125T130000
DTEND;TZID=Europe/Berlin:20200125T180000
X-ALT-DESC;FMTTYPE=TEXT/HTML:Das Bibliotheks-Open geht dieses Jahr in die 1
 4. Runde und findet zum siebten Mal in der Pfalzbibliothek statt. Auch Hob
 byspieler ohne Vereinszugehörigkeit sind herzlich willkommen und dürfen 
 ihre Fähigkeiten ausprobieren. Gespielt werden sieben Runden Schnellschac
 h nach Schweizer System mit zehn Minuten Bedenkzeit pro Spieler zuzüglich
  fünf Sekunden je Zug. Insgesamt stehen 36 Teilnehmerplätze zur Verfügu
 ng.&amp;hellip\;
CATEGORIES:Turniere
URL;VALUE=URI:https://sc-ramsteinmiesenbach.de/mc-events/14-bibliotheks-ope
 n/
METHOD:PUBLISH
END:VEVENT
END:VCALENDAR