BEGIN:VCALENDAR
VERSION:2.0
PRODID:spatie/icalendar-generator
DESCRIPTION:Veranstaltungen von Schachclub Ramstein-Miesenbach
X-WR-CALDESC:Veranstaltungen von Schachclub Ramstein-Miesenbach
REFRESH-INTERVAL;VALUE=DURATION:PT1440M
X-PUBLISHED-TTL:PT1440M
BEGIN:VTIMEZONE
TZID:Europe/Berlin
BEGIN:STANDARD
DTSTART:20241027T030000Z
TZOFFSETFROM:+0200
TZOFFSETTO:+0100
END:STANDARD
BEGIN:DAYLIGHT
DTSTART:20250330T020000Z
TZOFFSETFROM:+0100
TZOFFSETTO:+0200
END:DAYLIGHT
END:VTIMEZONE
BEGIN:VTIMEZONE
TZID:UTC
BEGIN:STANDARD
DTSTART:20250724T172849Z
TZOFFSETFROM:+0000
TZOFFSETTO:+0000
END:STANDARD
END:VTIMEZONE
BEGIN:VEVENT
UID:273-273
DTSTAMP:20260420T172849Z
SUMMARY:Pfälzische Schulschachmeisterschaften
LOCATION:Wörtn
ORGANIZER;CN=Lena Mader:MAILTO:lenamader@t-online.de
DTSTART;TZID=Europe/Berlin:20250128T080000
DTEND;TZID=Europe/Berlin:20250129T163000
X-ALT-DESC;FMTTYPE=TEXT/HTML:
CATEGORIES:Turniere
URL;VALUE=URI:https://sc-ramsteinmiesenbach.de/mc-events/pfaelzische-schuls
 chachmeisterschaften/
METHOD:PUBLISH
END:VEVENT
END:VCALENDAR