BEGIN:VCALENDAR
VERSION:2.0
PRODID:spatie/icalendar-generator
DESCRIPTION:Veranstaltungen von Schachclub Ramstein-Miesenbach
X-WR-CALDESC:Veranstaltungen von Schachclub Ramstein-Miesenbach
REFRESH-INTERVAL;VALUE=DURATION:PT1440M
X-PUBLISHED-TTL:PT1440M
BEGIN:VTIMEZONE
TZID:Europe/Berlin
BEGIN:STANDARD
DTSTART:20221030T030000Z
TZOFFSETFROM:+0200
TZOFFSETTO:+0100
END:STANDARD
BEGIN:DAYLIGHT
DTSTART:20230326T020000Z
TZOFFSETFROM:+0100
TZOFFSETTO:+0200
END:DAYLIGHT
BEGIN:STANDARD
DTSTART:20231029T030000Z
TZOFFSETFROM:+0200
TZOFFSETTO:+0100
END:STANDARD
END:VTIMEZONE
BEGIN:VTIMEZONE
TZID:UTC
BEGIN:STANDARD
DTSTART:20250725T174043Z
TZOFFSETFROM:+0000
TZOFFSETTO:+0000
END:STANDARD
END:VTIMEZONE
BEGIN:VEVENT
UID:146-146
DTSTAMP:20260421T174043Z
SUMMARY:Rheinland-Pfalz-Frauen-Einzelmeisterschaft 2023
LOCATION:Grundschule Nickenich Kolpingstraße 18  Nickenich Rheinland-Pfalz
  56645
ORGANIZER;CN=Jochen Meier:MAILTO:jmeier@gmx.de
DTSTART;TZID=Europe/Berlin;VALUE=DATE:20230714
DTEND;TZID=Europe/Berlin;VALUE=DATE:20230717
X-ALT-DESC;FMTTYPE=TEXT/HTML:[pdf-embedder url=\"https://sc-ramsteinmiesenb
 ach.de/wp-content/uploads/2023/05/Ausschreibung_SB-RLP-Einzelmeisterschaft
 _2023_final.pdf\"]
CATEGORIES:Turniere
URL;VALUE=URI:https://sc-ramsteinmiesenbach.de/mc-events/rheinland-pfalz-fr
 auen-einzelmeisterschaft-2023/
METHOD:PUBLISH
END:VEVENT
END:VCALENDAR