BEGIN:VCALENDAR
VERSION:2.0
PRODID:spatie/icalendar-generator
DESCRIPTION:Veranstaltungen von Schachclub Ramstein-Miesenbach
X-WR-CALDESC:Veranstaltungen von Schachclub Ramstein-Miesenbach
REFRESH-INTERVAL;VALUE=DURATION:PT1440M
X-PUBLISHED-TTL:PT1440M
BEGIN:VTIMEZONE
TZID:Europe/Berlin
BEGIN:DAYLIGHT
DTSTART:20220327T020000Z
TZOFFSETFROM:+0100
TZOFFSETTO:+0200
END:DAYLIGHT
BEGIN:STANDARD
DTSTART:20221030T030000Z
TZOFFSETFROM:+0200
TZOFFSETTO:+0100
END:STANDARD
END:VTIMEZONE
BEGIN:VTIMEZONE
TZID:UTC
BEGIN:STANDARD
DTSTART:20250729T035608Z
TZOFFSETFROM:+0000
TZOFFSETTO:+0000
END:STANDARD
END:VTIMEZONE
BEGIN:VEVENT
UID:14-14
DTSTAMP:20260425T035608Z
SUMMARY:Nachholtermin 1. Thallichtenberger Neujahrsopen
LOCATION:Mehrzweckhalle Thallichtenberg Herzogstr. 31  Thallichtenberg Rhei
 nland-Pfalz 66871
ORGANIZER;CN=Jochen Meier:MAILTO:jmeier@gmx.de
DTSTART;TZID=Europe/Berlin;VALUE=DATE:20220729
DTEND;TZID=Europe/Berlin;VALUE=DATE:20220801
X-ALT-DESC;FMTTYPE=TEXT/HTML:[pdf-embedder url=\"https://sc-ramsteinmiesenb
 ach.de/wp-content/uploads/2022/07/Nachholtermin-1.-Thallichtenberger-Neuja
 hrsopen.pdf\" title=\"Nachholtermin 1. Thallichtenberger Neujahrsopen\"]
CATEGORIES:Turniere
URL;VALUE=URI:https://sc-ramsteinmiesenbach.de/mc-events/nachholtermin-1-th
 allichtenberger-neujahrsopen/
METHOD:PUBLISH
END:VEVENT
END:VCALENDAR